BEGIN:VCALENDAR
VERSION:2.0
PRODID:-//Vulcan &amp; Region Family &amp; Community Support Services - ECPv6.15.11//NONSGML v1.0//EN
CALSCALE:GREGORIAN
METHOD:PUBLISH
X-ORIGINAL-URL:https://vulcanandregionfcss.com
X-WR-CALDESC:Events for Vulcan &amp; Region Family &amp; Community Support Services
REFRESH-INTERVAL;VALUE=DURATION:PT1H
X-Robots-Tag:noindex
X-PUBLISHED-TTL:PT1H
BEGIN:VTIMEZONE
TZID:America/Edmonton
BEGIN:DAYLIGHT
TZOFFSETFROM:-0700
TZOFFSETTO:-0600
TZNAME:MDT
DTSTART:20240310T090000
END:DAYLIGHT
BEGIN:STANDARD
TZOFFSETFROM:-0600
TZOFFSETTO:-0700
TZNAME:MST
DTSTART:20241103T080000
END:STANDARD
BEGIN:DAYLIGHT
TZOFFSETFROM:-0700
TZOFFSETTO:-0600
TZNAME:MDT
DTSTART:20250309T090000
END:DAYLIGHT
BEGIN:STANDARD
TZOFFSETFROM:-0600
TZOFFSETTO:-0700
TZNAME:MST
DTSTART:20251102T080000
END:STANDARD
BEGIN:DAYLIGHT
TZOFFSETFROM:-0700
TZOFFSETTO:-0600
TZNAME:MDT
DTSTART:20260308T090000
END:DAYLIGHT
BEGIN:STANDARD
TZOFFSETFROM:-0600
TZOFFSETTO:-0700
TZNAME:MST
DTSTART:20261101T080000
END:STANDARD
END:VTIMEZONE
BEGIN:VEVENT
DTSTART;TZID=America/Edmonton:20250313T130000
DTEND;TZID=America/Edmonton:20250313T170000
DTSTAMP:20260421T032757
CREATED:20250307T204325Z
LAST-MODIFIED:20250307T223751Z
UID:3044-1741870800-1741885200@vulcanandregionfcss.com
SUMMARY:Career and Employment Expo - Viking Rentals Centre Okotoks
DESCRIPTION:For all job seekers and career path questions
URL:https://vulcanandregionfcss.com/event/career-and-employment-expo-viking-rentals-centre-okotoks/
END:VEVENT
END:VCALENDAR