BEGIN:VCALENDAR
VERSION:2.0
PRODID:-//Vulcan &amp; Region Family &amp; Community Support Services - ECPv6.15.11//NONSGML v1.0//EN
CALSCALE:GREGORIAN
METHOD:PUBLISH
X-ORIGINAL-URL:https://vulcanandregionfcss.com
X-WR-CALDESC:Events for Vulcan &amp; Region Family &amp; Community Support Services
REFRESH-INTERVAL;VALUE=DURATION:PT1H
X-Robots-Tag:noindex
X-PUBLISHED-TTL:PT1H
BEGIN:VTIMEZONE
TZID:America/Edmonton
BEGIN:DAYLIGHT
TZOFFSETFROM:-0700
TZOFFSETTO:-0600
TZNAME:MDT
DTSTART:20240310T090000
END:DAYLIGHT
BEGIN:STANDARD
TZOFFSETFROM:-0600
TZOFFSETTO:-0700
TZNAME:MST
DTSTART:20241103T080000
END:STANDARD
BEGIN:DAYLIGHT
TZOFFSETFROM:-0700
TZOFFSETTO:-0600
TZNAME:MDT
DTSTART:20250309T090000
END:DAYLIGHT
BEGIN:STANDARD
TZOFFSETFROM:-0600
TZOFFSETTO:-0700
TZNAME:MST
DTSTART:20251102T080000
END:STANDARD
BEGIN:DAYLIGHT
TZOFFSETFROM:-0700
TZOFFSETTO:-0600
TZNAME:MDT
DTSTART:20260308T090000
END:DAYLIGHT
BEGIN:STANDARD
TZOFFSETFROM:-0600
TZOFFSETTO:-0700
TZNAME:MST
DTSTART:20261101T080000
END:STANDARD
END:VTIMEZONE
BEGIN:VEVENT
DTSTART;TZID=America/Edmonton:20250314T180000
DTEND;TZID=America/Edmonton:20250314T200000
DTSTAMP:20260421T033051
CREATED:20250307T195459Z
LAST-MODIFIED:20250307T195459Z
UID:3022-1741975200-1741982400@vulcanandregionfcss.com
SUMMARY:Bingo - Vulcan Seniors Centre
DESCRIPTION:Doors at open at 6pm\, bingo starts at 7pm
URL:https://vulcanandregionfcss.com/event/bingo-vulcan-seniors-centre/
END:VEVENT
BEGIN:VEVENT
DTSTART;TZID=America/Edmonton:20250314T183000
DTEND;TZID=America/Edmonton:20250314T203000
DTSTAMP:20260421T033051
CREATED:20250307T195859Z
LAST-MODIFIED:20250307T195859Z
UID:3024-1741977000-1741984200@vulcanandregionfcss.com
SUMMARY:Vulcan Skating Club  - Vulcan Arena
DESCRIPTION:Doors open at 6:30 pm\, film starts at 7pm. Admission under 6 is free.
URL:https://vulcanandregionfcss.com/event/vulcan-skating-club-vulcan-arena/
END:VEVENT
END:VCALENDAR