BEGIN:VCALENDAR
VERSION:2.0
PRODID:-//Vulcan &amp; Region Family &amp; Community Support Services - ECPv6.15.11//NONSGML v1.0//EN
CALSCALE:GREGORIAN
METHOD:PUBLISH
X-ORIGINAL-URL:https://vulcanandregionfcss.com
X-WR-CALDESC:Events for Vulcan &amp; Region Family &amp; Community Support Services
REFRESH-INTERVAL;VALUE=DURATION:PT1H
X-Robots-Tag:noindex
X-PUBLISHED-TTL:PT1H
BEGIN:VTIMEZONE
TZID:America/Edmonton
BEGIN:DAYLIGHT
TZOFFSETFROM:-0700
TZOFFSETTO:-0600
TZNAME:MDT
DTSTART:20240310T090000
END:DAYLIGHT
BEGIN:STANDARD
TZOFFSETFROM:-0600
TZOFFSETTO:-0700
TZNAME:MST
DTSTART:20241103T080000
END:STANDARD
BEGIN:DAYLIGHT
TZOFFSETFROM:-0700
TZOFFSETTO:-0600
TZNAME:MDT
DTSTART:20250309T090000
END:DAYLIGHT
BEGIN:STANDARD
TZOFFSETFROM:-0600
TZOFFSETTO:-0700
TZNAME:MST
DTSTART:20251102T080000
END:STANDARD
BEGIN:DAYLIGHT
TZOFFSETFROM:-0700
TZOFFSETTO:-0600
TZNAME:MDT
DTSTART:20260308T090000
END:DAYLIGHT
BEGIN:STANDARD
TZOFFSETFROM:-0600
TZOFFSETTO:-0700
TZNAME:MST
DTSTART:20261101T080000
END:STANDARD
END:VTIMEZONE
BEGIN:VEVENT
DTSTART;TZID=America/Edmonton:20250316T160000
DTEND;TZID=America/Edmonton:20250316T190000
DTSTAMP:20260421T035432
CREATED:20250307T201233Z
LAST-MODIFIED:20250307T201233Z
UID:3029-1742140800-1742151600@vulcanandregionfcss.com
SUMMARY:St Patrick's Day Dinner and Auction - Champion Hall
DESCRIPTION:Dinner\, auction\, 50/50 \nTickets: \nAdults $25 \nYouth (7 and up) $15 \n7 and under free \nFamilies $70 \nFor tickets call Holly 403-894-0815
URL:https://vulcanandregionfcss.com/event/st-patricks-day-dinner-and-auction-champion-hall/
END:VEVENT
END:VCALENDAR