BEGIN:VCALENDAR
VERSION:2.0
PRODID:-//Vulcan &amp; Region Family &amp; Community Support Services - ECPv6.15.11//NONSGML v1.0//EN
CALSCALE:GREGORIAN
METHOD:PUBLISH
X-WR-CALNAME:Vulcan &amp; Region Family &amp; Community Support Services
X-ORIGINAL-URL:https://vulcanandregionfcss.com
X-WR-CALDESC:Events for Vulcan &amp; Region Family &amp; Community Support Services
REFRESH-INTERVAL;VALUE=DURATION:PT1H
X-Robots-Tag:noindex
X-PUBLISHED-TTL:PT1H
BEGIN:VTIMEZONE
TZID:America/Edmonton
BEGIN:DAYLIGHT
TZOFFSETFROM:-0700
TZOFFSETTO:-0600
TZNAME:MDT
DTSTART:20210314T090000
END:DAYLIGHT
BEGIN:STANDARD
TZOFFSETFROM:-0600
TZOFFSETTO:-0700
TZNAME:MST
DTSTART:20211107T080000
END:STANDARD
BEGIN:DAYLIGHT
TZOFFSETFROM:-0700
TZOFFSETTO:-0600
TZNAME:MDT
DTSTART:20220313T090000
END:DAYLIGHT
BEGIN:STANDARD
TZOFFSETFROM:-0600
TZOFFSETTO:-0700
TZNAME:MST
DTSTART:20221106T080000
END:STANDARD
BEGIN:DAYLIGHT
TZOFFSETFROM:-0700
TZOFFSETTO:-0600
TZNAME:MDT
DTSTART:20230312T090000
END:DAYLIGHT
BEGIN:STANDARD
TZOFFSETFROM:-0600
TZOFFSETTO:-0700
TZNAME:MST
DTSTART:20231105T080000
END:STANDARD
BEGIN:DAYLIGHT
TZOFFSETFROM:-0700
TZOFFSETTO:-0600
TZNAME:MDT
DTSTART:20240310T090000
END:DAYLIGHT
BEGIN:STANDARD
TZOFFSETFROM:-0600
TZOFFSETTO:-0700
TZNAME:MST
DTSTART:20241103T080000
END:STANDARD
END:VTIMEZONE
BEGIN:VEVENT
DTSTART;VALUE=DATE:20230104
DTEND;VALUE=DATE:20230105
DTSTAMP:20260419T133755
CREATED:20221221T164738Z
LAST-MODIFIED:20221221T164757Z
UID:2471-1672790400-1672876799@vulcanandregionfcss.com
SUMMARY:Babysitting Course
DESCRIPTION:
URL:https://vulcanandregionfcss.com/event/babysitting-course/
LOCATION:Vulcan and Region FCSS\, 105B 3rd Ave. S.\, Vulcan\, Alberta\, T0L 2B0
END:VEVENT
BEGIN:VEVENT
DTSTART;TZID=America/Edmonton:20221221T133000
DTEND;TZID=America/Edmonton:20221221T150000
DTSTAMP:20260419T133755
CREATED:20220825T210009Z
LAST-MODIFIED:20220825T211258Z
UID:2316-1671629400-1671634800@vulcanandregionfcss.com
SUMMARY:Family links program
DESCRIPTION:
URL:https://vulcanandregionfcss.com/event/family-links-program-2/
LOCATION:Lodge Hall Vulcan\, 231 Center Street\, Vulcan\, Alberta\, T0L2B0\, Canada
END:VEVENT
BEGIN:VEVENT
DTSTART;TZID=America/Edmonton:20221219T103000
DTEND;TZID=America/Edmonton:20221219T103000
DTSTAMP:20260419T133755
CREATED:20220825T214746Z
LAST-MODIFIED:20220825T214746Z
UID:2331-1671445800-1671445800@vulcanandregionfcss.com
SUMMARY:Holiday sensory play for 2-6 year olds
DESCRIPTION:
URL:https://vulcanandregionfcss.com/event/holiday-sensory-play-for-2-6-year-olds-2/
END:VEVENT
BEGIN:VEVENT
DTSTART;TZID=America/Edmonton:20221212T103000
DTEND;TZID=America/Edmonton:20221212T103000
DTSTAMP:20260419T133755
CREATED:20220825T214520Z
LAST-MODIFIED:20220825T215142Z
UID:2329-1670841000-1670841000@vulcanandregionfcss.com
SUMMARY:Holiday sensory for 2-6 year olds
DESCRIPTION:
URL:https://vulcanandregionfcss.com/event/holiday-sensory-for-2-6-year-olds/
END:VEVENT
BEGIN:VEVENT
DTSTART;TZID=America/Edmonton:20221205T103000
DTEND;TZID=America/Edmonton:20221205T103000
DTSTAMP:20260419T133755
CREATED:20220825T214414Z
LAST-MODIFIED:20220825T214414Z
UID:2327-1670236200-1670236200@vulcanandregionfcss.com
SUMMARY:Holiday sensory play for 2-6 year olds
DESCRIPTION:
URL:https://vulcanandregionfcss.com/event/holiday-sensory-play-for-2-6-year-olds/
END:VEVENT
BEGIN:VEVENT
DTSTART;TZID=America/Edmonton:20221130T133000
DTEND;TZID=America/Edmonton:20221130T150000
DTSTAMP:20260419T133755
CREATED:20220825T215956Z
LAST-MODIFIED:20220825T215956Z
UID:2335-1669815000-1669820400@vulcanandregionfcss.com
SUMMARY:Family links program Lomond
DESCRIPTION:
URL:https://vulcanandregionfcss.com/event/family-links-program-lomond/
LOCATION:Lomond\, Lomond\, Alberta\, Canada
END:VEVENT
BEGIN:VEVENT
DTSTART;TZID=America/Edmonton:20221123T133000
DTEND;TZID=America/Edmonton:20221123T150000
DTSTAMP:20260419T133755
CREATED:20220825T220639Z
LAST-MODIFIED:20220825T220639Z
UID:2340-1669210200-1669215600@vulcanandregionfcss.com
SUMMARY:Family links program Carmangay
DESCRIPTION:
URL:https://vulcanandregionfcss.com/event/family-links-program-carmangay/
LOCATION:Carmangay\, Carmangay\, Alberta\, Canada
END:VEVENT
BEGIN:VEVENT
DTSTART;TZID=America/Edmonton:20221121T103000
DTEND;TZID=America/Edmonton:20221121T103000
DTSTAMP:20260419T133755
CREATED:20220825T221207Z
LAST-MODIFIED:20220825T221207Z
UID:2347-1669026600-1669026600@vulcanandregionfcss.com
SUMMARY:Curiosity kids for 2-6 year olds Milo
DESCRIPTION:
URL:https://vulcanandregionfcss.com/event/curiosity-kids-for-2-6-year-olds-milo-3/
LOCATION:Milo\, Milo\, Alberta\, Canada
END:VEVENT
BEGIN:VEVENT
DTSTART;TZID=America/Edmonton:20221115T180000
DTEND;TZID=America/Edmonton:20221115T193000
DTSTAMP:20260419T133755
CREATED:20220825T215304Z
LAST-MODIFIED:20220825T215304Z
UID:2333-1668535200-1668540600@vulcanandregionfcss.com
SUMMARY:Family fun night Lomond
DESCRIPTION:
URL:https://vulcanandregionfcss.com/event/family-fun-night-lomond/
END:VEVENT
BEGIN:VEVENT
DTSTART;TZID=America/Edmonton:20221114T103000
DTEND;TZID=America/Edmonton:20221114T103000
DTSTAMP:20260419T133755
CREATED:20220825T221050Z
LAST-MODIFIED:20220825T221050Z
UID:2345-1668421800-1668421800@vulcanandregionfcss.com
SUMMARY:Curiosity kids for 2-6 year olds Milo
DESCRIPTION:
URL:https://vulcanandregionfcss.com/event/curiosity-kids-for-2-6-year-olds-milo-2/
LOCATION:Milo\, Milo\, Alberta\, Canada
END:VEVENT
BEGIN:VEVENT
DTSTART;TZID=America/Edmonton:20221107T103000
DTEND;TZID=America/Edmonton:20221107T103000
DTSTAMP:20260419T133755
CREATED:20220825T220942Z
LAST-MODIFIED:20220825T220942Z
UID:2342-1667817000-1667817000@vulcanandregionfcss.com
SUMMARY:Curiosity kids for 2-6 year olds Milo
DESCRIPTION:
URL:https://vulcanandregionfcss.com/event/curiosity-kids-for-2-6-year-olds-milo/
LOCATION:Milo\, Milo\, Alberta\, Canada
END:VEVENT
BEGIN:VEVENT
DTSTART;TZID=America/Edmonton:20221025T180000
DTEND;TZID=America/Edmonton:20221025T193000
DTSTAMP:20260419T133755
CREATED:20220825T220434Z
LAST-MODIFIED:20220825T220435Z
UID:2337-1666720800-1666726200@vulcanandregionfcss.com
SUMMARY:Family fun night Carmangay
DESCRIPTION:
URL:https://vulcanandregionfcss.com/event/family-fun-night-carmangay/
LOCATION:Carmangay\, Carmangay\, Alberta\, Canada
END:VEVENT
BEGIN:VEVENT
DTSTART;TZID=America/Edmonton:20221024T103000
DTEND;TZID=America/Edmonton:20221024T103000
DTSTAMP:20260419T133755
CREATED:20220825T213626Z
LAST-MODIFIED:20220825T213657Z
UID:2322-1666607400-1666607400@vulcanandregionfcss.com
SUMMARY:Curiosity kids for 2-6 year olds Lomond
DESCRIPTION:
URL:https://vulcanandregionfcss.com/event/curiosity-kids-for-2-6-year-olds-lomond/
LOCATION:Lomond\, Lomond\, Alberta\, Canada
END:VEVENT
BEGIN:VEVENT
DTSTART;TZID=America/Edmonton:20221019T133000
DTEND;TZID=America/Edmonton:20221019T153000
DTSTAMP:20260419T133755
CREATED:20220825T221440Z
LAST-MODIFIED:20220825T221440Z
UID:2349-1666186200-1666193400@vulcanandregionfcss.com
SUMMARY:Family links program Arrowwood
DESCRIPTION:
URL:https://vulcanandregionfcss.com/event/family-links-program-arrowwood/
LOCATION:Arrowwood\, Arrowwood\, Alberta\, Canada
END:VEVENT
BEGIN:VEVENT
DTSTART;TZID=America/Edmonton:20221017T103000
DTEND;TZID=America/Edmonton:20221017T103000
DTSTAMP:20260419T133755
CREATED:20220825T214010Z
LAST-MODIFIED:20220825T214010Z
UID:2325-1666002600-1666002600@vulcanandregionfcss.com
SUMMARY:Curiosity kids for 2-6 year olds
DESCRIPTION:
URL:https://vulcanandregionfcss.com/event/curiosity-kids-for-2-6-year-olds/
END:VEVENT
BEGIN:VEVENT
DTSTART;TZID=America/Edmonton:20221005T133000
DTEND;TZID=America/Edmonton:20221005T150000
DTSTAMP:20260419T133755
CREATED:20220825T205834Z
LAST-MODIFIED:20220825T205834Z
UID:2314-1664976600-1664982000@vulcanandregionfcss.com
SUMMARY:Family links program
DESCRIPTION:
URL:https://vulcanandregionfcss.com/event/family-links-program/
LOCATION:Lodge Hall Vulcan\, 231 Center Street\, Vulcan\, Alberta\, T0L2B0\, Canada
END:VEVENT
BEGIN:VEVENT
DTSTART;TZID=America/Edmonton:20221003T103000
DTEND;TZID=America/Edmonton:20221003T103000
DTSTAMP:20260419T133755
CREATED:20220825T213044Z
LAST-MODIFIED:20220825T213044Z
UID:2319-1664793000-1664793000@vulcanandregionfcss.com
SUMMARY:Curiosity kids ages 2-6 Lomond
DESCRIPTION:
URL:https://vulcanandregionfcss.com/event/curiosity-kids-ages-2-6-lomond/
LOCATION:Lomond\, Lomond\, Alberta\, Canada
END:VEVENT
BEGIN:VEVENT
DTSTART;TZID=America/Edmonton:20220920T180000
DTEND;TZID=America/Edmonton:20220920T193000
DTSTAMP:20260419T133755
CREATED:20220825T204551Z
LAST-MODIFIED:20220825T204551Z
UID:2309-1663696800-1663702200@vulcanandregionfcss.com
SUMMARY:Family fun night
DESCRIPTION:
URL:https://vulcanandregionfcss.com/event/family-fun-night/
LOCATION:Lodge Hall Vulcan\, 231 Center Street\, Vulcan\, Alberta\, T0L2B0\, Canada
END:VEVENT
BEGIN:VEVENT
DTSTART;TZID=America/Edmonton:20220913T153000
DTEND;TZID=America/Edmonton:20220913T180000
DTSTAMP:20260419T133755
CREATED:20220825T175644Z
LAST-MODIFIED:20220906T201201Z
UID:2301-1663083000-1663092000@vulcanandregionfcss.com
SUMMARY:Mass Registration
DESCRIPTION:Vulcan Prairie view Elementary School
URL:https://vulcanandregionfcss.com/event/mass-registration/
ATTACH;FMTTYPE=image/jpeg:https://vulcanandregionfcss.com/wp-content/uploads/2022/08/Mass-registration-Poster.jpg
END:VEVENT
BEGIN:VEVENT
DTSTART;TZID=America/Edmonton:20220912T133000
DTEND;TZID=America/Edmonton:20220912T150000
DTSTAMP:20260419T133755
CREATED:20220825T174534Z
LAST-MODIFIED:20220825T174534Z
UID:2293-1662989400-1662994800@vulcanandregionfcss.com
SUMMARY:Stay and Play Vulcan
DESCRIPTION:Greater Foothills
URL:https://vulcanandregionfcss.com/event/stay-and-play-vulcan/
END:VEVENT
BEGIN:VEVENT
DTSTART;TZID=America/Edmonton:20220901T080000
DTEND;TZID=America/Edmonton:20220921T170000
DTSTAMP:20260419T133755
CREATED:20220906T194220Z
LAST-MODIFIED:20220906T194220Z
UID:2361-1662019200-1663779600@vulcanandregionfcss.com
SUMMARY:7th annual harvest pie fundraiser
DESCRIPTION:
URL:https://vulcanandregionfcss.com/event/7th-annual-harvest-pie-fundraiser/
ATTACH;FMTTYPE=image/jpeg:https://vulcanandregionfcss.com/wp-content/uploads/2022/09/Pie-Poster-2022.jpg
END:VEVENT
BEGIN:VEVENT
DTSTART;TZID=America/Edmonton:20220414T130000
DTEND;TZID=America/Edmonton:20220414T150000
DTSTAMP:20260419T133755
CREATED:20220222T190211Z
LAST-MODIFIED:20220222T190211Z
UID:1738-1649941200-1649948400@vulcanandregionfcss.com
SUMMARY:Man Cave
DESCRIPTION:For men of all ages to get out of the house\, support one another and have a little fun. Based on the Men’s Shed model\, this group provides the opportunity for men to socialize\, take part in activities\, learn something new\, and just be themselves. We are using the Youth Centre – the ideal man cave – it’s in the basement\, has billiards\, foosball\, ping-pong\, games\, comfortable seating and tables for whatever activities pique interest.  Come out to meet people or invite a friend to check it out. \n 
URL:https://vulcanandregionfcss.com/event/man-cave-8/
LOCATION:105A 3rd Av. S. Vulcan\, AB\, 105A 3rd Ave. S.\, Vulcan\, Alberta\, T0L 2B0\, Canada
END:VEVENT
BEGIN:VEVENT
DTSTART;TZID=America/Edmonton:20220407T130000
DTEND;TZID=America/Edmonton:20220407T150000
DTSTAMP:20260419T133755
CREATED:20220222T190010Z
LAST-MODIFIED:20220222T190055Z
UID:1736-1649336400-1649343600@vulcanandregionfcss.com
SUMMARY:Man Cave
DESCRIPTION:For men of all ages to get out of the house\, support one another and have a little fun. Based on the Men’s Shed model\, this group provides the opportunity for men to socialize\, take part in activities\, learn something new\, and just be themselves. We are using the Youth Centre – the ideal man cave – it’s in the basement\, has billiards\, foosball\, ping-pong\, games\, comfortable seating and tables for whatever activities pique interest.  Come out to meet people or invite a friend to check it out. \n 
URL:https://vulcanandregionfcss.com/event/man-cave-7/
LOCATION:105A 3rd Av. S. Vulcan\, AB\, 105A 3rd Ave. S.\, Vulcan\, Alberta\, T0L 2B0\, Canada
END:VEVENT
BEGIN:VEVENT
DTSTART;TZID=America/Edmonton:20220406T110000
DTEND;TZID=America/Edmonton:20220406T123000
DTSTAMP:20260419T133755
CREATED:20220222T204615Z
LAST-MODIFIED:20220222T204615Z
UID:1765-1649242800-1649248200@vulcanandregionfcss.com
SUMMARY:Vulcan Area Interagency Meeting
DESCRIPTION:Join Vulcan and Region FCSS in a scheduled Zoom meeting to share about resources\, services and upcoming events in Vulcan County.  Stay informed and connected to all the services that are available. \nTopic: Vulcan Area Interagency Meeting April\nTime: Apr 6\, 2022 11:00 AM Mountain Time (US and Canada) \nJoin Zoom Meeting\nhttps://us06web.zoom.us/j/85038398265?pwd=STBCSitpWnBpM2RPbGsvamJPcElmQT09 \nMeeting ID: 850 3839 8265\nPasscode: 947348\nOne tap mobile\n+16473744685\,\,85038398265# Canada\n+16475580588\,\,85038398265# Canada \nDial by your location\n+1 587 328 1099 Canada\nMeeting ID: 850 3839 8265 \n  \n 
URL:https://vulcanandregionfcss.com/event/vulcan-area-interagency-meeting-2/
END:VEVENT
BEGIN:VEVENT
DTSTART;TZID=America/Edmonton:20220331T130000
DTEND;TZID=America/Edmonton:20220331T150000
DTSTAMP:20260419T133755
CREATED:20220222T185949Z
LAST-MODIFIED:20220222T185949Z
UID:1734-1648731600-1648738800@vulcanandregionfcss.com
SUMMARY:Man Cave
DESCRIPTION:For men of all ages to get out of the house\, support one another and have a little fun. Based on the Men’s Shed model\, this group provides the opportunity for men to socialize\, take part in activities\, learn something new\, and just be themselves. We are using the Youth Centre – the ideal man cave – it’s in the basement\, has billiards\, foosball\, ping-pong\, games\, comfortable seating and tables for whatever activities pique interest.  Come out to meet people or invite a friend to check it out. \n 
URL:https://vulcanandregionfcss.com/event/man-cave-6/
LOCATION:105A 3rd Av. S. Vulcan\, AB\, 105A 3rd Ave. S.\, Vulcan\, Alberta\, T0L 2B0\, Canada
END:VEVENT
BEGIN:VEVENT
DTSTART;TZID=America/Edmonton:20220331T093000
DTEND;TZID=America/Edmonton:20220331T123000
DTSTAMP:20260419T133755
CREATED:20220222T203718Z
LAST-MODIFIED:20220222T203718Z
UID:1761-1648719000-1648729800@vulcanandregionfcss.com
SUMMARY:Soup Making
DESCRIPTION:Volunteer at FCSS to make soup or freezer meals.  These are used for the Youth Centre Food Friday’s\, as frozen entrees in food hampers and are available to the community for anyone who wants to reach out to isolated individuals who are not eating well. Use the Sign Up Genius link to pick your own slot to volunteer.
URL:https://vulcanandregionfcss.com/event/soup-making-6/
LOCATION:Vulcan FCSS\, 105B 3rd Ave. S.\, Vulcan\, Alberta\, T0L 2B0\, Canada
END:VEVENT
BEGIN:VEVENT
DTSTART;TZID=America/Edmonton:20220324T130000
DTEND;TZID=America/Edmonton:20220324T150000
DTSTAMP:20260419T133755
CREATED:20220222T185931Z
LAST-MODIFIED:20220222T185931Z
UID:1732-1648126800-1648134000@vulcanandregionfcss.com
SUMMARY:Man Cave
DESCRIPTION:For men of all ages to get out of the house\, support one another and have a little fun. Based on the Men’s Shed model\, this group provides the opportunity for men to socialize\, take part in activities\, learn something new\, and just be themselves. We are using the Youth Centre – the ideal man cave – it’s in the basement\, has billiards\, foosball\, ping-pong\, games\, comfortable seating and tables for whatever activities pique interest.  Come out to meet people or invite a friend to check it out. \n 
URL:https://vulcanandregionfcss.com/event/man-cave-5/
LOCATION:105A 3rd Av. S. Vulcan\, AB\, 105A 3rd Ave. S.\, Vulcan\, Alberta\, T0L 2B0\, Canada
END:VEVENT
BEGIN:VEVENT
DTSTART;TZID=America/Edmonton:20220323T133000
DTEND;TZID=America/Edmonton:20220323T163000
DTSTAMP:20260419T133755
CREATED:20220222T203632Z
LAST-MODIFIED:20220222T203632Z
UID:1759-1648042200-1648053000@vulcanandregionfcss.com
SUMMARY:Soup Making
DESCRIPTION:Volunteer at FCSS to make soup or freezer meals.  These are used for the Youth Centre Food Friday’s\, as frozen entrees in food hampers and are available to the community for anyone who wants to reach out to isolated individuals who are not eating well. Use the Sign Up Genius link to pick your own slot to volunteer.
URL:https://vulcanandregionfcss.com/event/soup-making-5/
LOCATION:Vulcan FCSS\, 105B 3rd Ave. S.\, Vulcan\, Alberta\, T0L 2B0\, Canada
END:VEVENT
BEGIN:VEVENT
DTSTART;TZID=America/Edmonton:20220317T130000
DTEND;TZID=America/Edmonton:20220317T150000
DTSTAMP:20260419T133755
CREATED:20220222T185845Z
LAST-MODIFIED:20220222T185845Z
UID:1730-1647522000-1647529200@vulcanandregionfcss.com
SUMMARY:Man Cave
DESCRIPTION:For men of all ages to get out of the house\, support one another and have a little fun. Based on the Men’s Shed model\, this group provides the opportunity for men to socialize\, take part in activities\, learn something new\, and just be themselves. We are using the Youth Centre – the ideal man cave – it’s in the basement\, has billiards\, foosball\, ping-pong\, games\, comfortable seating and tables for whatever activities pique interest.  Come out to meet people or invite a friend to check it out. \n 
URL:https://vulcanandregionfcss.com/event/man-cave-4/
LOCATION:105A 3rd Av. S. Vulcan\, AB\, 105A 3rd Ave. S.\, Vulcan\, Alberta\, T0L 2B0\, Canada
END:VEVENT
BEGIN:VEVENT
DTSTART;TZID=America/Edmonton:20220317T093000
DTEND;TZID=America/Edmonton:20220317T133000
DTSTAMP:20260419T133755
CREATED:20220222T203542Z
LAST-MODIFIED:20220222T203542Z
UID:1757-1647509400-1647523800@vulcanandregionfcss.com
SUMMARY:Soup Making
DESCRIPTION:Volunteer at FCSS to make soup or freezer meals.  These are used for the Youth Centre Food Friday’s\, as frozen entrees in food hampers and are available to the community for anyone who wants to reach out to isolated individuals who are not eating well. Use the Sign Up Genius link to pick your own slot to volunteer.
URL:https://vulcanandregionfcss.com/event/soup-making-4/
LOCATION:Vulcan FCSS\, 105B 3rd Ave. S.\, Vulcan\, Alberta\, T0L 2B0\, Canada
END:VEVENT
END:VCALENDAR