BEGIN:VCALENDAR
VERSION:2.0
PRODID:-//Vulcan &amp; Region Family &amp; Community Support Services - ECPv6.15.11//NONSGML v1.0//EN
CALSCALE:GREGORIAN
METHOD:PUBLISH
X-WR-CALNAME:Vulcan &amp; Region Family &amp; Community Support Services
X-ORIGINAL-URL:https://vulcanandregionfcss.com
X-WR-CALDESC:Events for Vulcan &amp; Region Family &amp; Community Support Services
REFRESH-INTERVAL;VALUE=DURATION:PT1H
X-Robots-Tag:noindex
X-PUBLISHED-TTL:PT1H
BEGIN:VTIMEZONE
TZID:America/Edmonton
BEGIN:DAYLIGHT
TZOFFSETFROM:-0700
TZOFFSETTO:-0600
TZNAME:MDT
DTSTART:20210314T090000
END:DAYLIGHT
BEGIN:STANDARD
TZOFFSETFROM:-0600
TZOFFSETTO:-0700
TZNAME:MST
DTSTART:20211107T080000
END:STANDARD
BEGIN:DAYLIGHT
TZOFFSETFROM:-0700
TZOFFSETTO:-0600
TZNAME:MDT
DTSTART:20220313T090000
END:DAYLIGHT
BEGIN:STANDARD
TZOFFSETFROM:-0600
TZOFFSETTO:-0700
TZNAME:MST
DTSTART:20221106T080000
END:STANDARD
BEGIN:DAYLIGHT
TZOFFSETFROM:-0700
TZOFFSETTO:-0600
TZNAME:MDT
DTSTART:20230312T090000
END:DAYLIGHT
BEGIN:STANDARD
TZOFFSETFROM:-0600
TZOFFSETTO:-0700
TZNAME:MST
DTSTART:20231105T080000
END:STANDARD
END:VTIMEZONE
BEGIN:VEVENT
DTSTART;TZID=America/Edmonton:20220224T130000
DTEND;TZID=America/Edmonton:20220224T150000
DTSTAMP:20260419T153456
CREATED:20220222T185304Z
LAST-MODIFIED:20220222T185637Z
UID:1721-1645707600-1645714800@vulcanandregionfcss.com
SUMMARY:Man Cave
DESCRIPTION:For men of all ages to get out of the house\, support one another and have a little fun. Based on the Men’s Shed model\, this group provides the opportunity for men to socialize\, take part in activities\, learn something new\, and just be themselves. We are using the Youth Centre – the ideal man cave – it’s in the basement\, has billiards\, foosball\, ping-pong\, games\, comfortable seating and tables for whatever activities pique interest.  Come out to meet people or invite a friend to check it out. \n 
URL:https://vulcanandregionfcss.com/event/man-cave/
LOCATION:105A 3rd Av. S. Vulcan\, AB\, 105A 3rd Ave. S.\, Vulcan\, Alberta\, T0L 2B0\, Canada
END:VEVENT
BEGIN:VEVENT
DTSTART;TZID=America/Edmonton:20220113T093000
DTEND;TZID=America/Edmonton:20220113T123000
DTSTAMP:20260419T153456
CREATED:20220111T212434Z
LAST-MODIFIED:20220111T212529Z
UID:1194-1642066200-1642077000@vulcanandregionfcss.com
SUMMARY:Soup Making
DESCRIPTION:Volunteer to make soups for the Youth Centre\, Food Bank and isolated individuals.
URL:https://vulcanandregionfcss.com/event/soup-making/
ATTACH;FMTTYPE=image/jpeg:https://vulcanandregionfcss.com/wp-content/uploads/2021/12/Feed-the-Body-Feed-the-Soul.jpg
END:VEVENT
END:VCALENDAR